BEGIN:VCALENDAR
VERSION:2.0
PRODID:-//Jeri Sager - ECPv6.7.0//NONSGML v1.0//EN
CALSCALE:GREGORIAN
METHOD:PUBLISH
X-WR-CALNAME:Jeri Sager
X-ORIGINAL-URL:https://jerisager.com
X-WR-CALDESC:Events for Jeri Sager
REFRESH-INTERVAL;VALUE=DURATION:PT1H
X-Robots-Tag:noindex
X-PUBLISHED-TTL:PT1H
BEGIN:VTIMEZONE
TZID:America/Chicago
BEGIN:DAYLIGHT
TZOFFSETFROM:-0600
TZOFFSETTO:-0500
TZNAME:CDT
DTSTART:20200308T080000
END:DAYLIGHT
BEGIN:STANDARD
TZOFFSETFROM:-0500
TZOFFSETTO:-0600
TZNAME:CST
DTSTART:20201101T070000
END:STANDARD
TZID:America/Phoenix
BEGIN:STANDARD
TZOFFSETFROM:-0700
TZOFFSETTO:-0700
TZNAME:MST
DTSTART:20200101T000000
END:STANDARD
END:VTIMEZONE
BEGIN:VEVENT
DTSTART;VALUE=DATE:20200108
DTEND;VALUE=DATE:20200115
DTSTAMP:20260421T113839
CREATED:20190503T142242Z
LAST-MODIFIED:20190503T142512Z
UID:1907-1578441600-1579046399@jerisager.com
SUMMARY:THIS BROAD'sWAY at SEA
DESCRIPTION:Aboard the stunning Regent Explorer in the Caribbean.
URL:https://jerisager.com/event/this-broadsway-at-sea-5/
CATEGORIES:Luxury Cruising
END:VEVENT
BEGIN:VEVENT
DTSTART;TZID=America/Phoenix:20200130T193000
DTEND;TZID=America/Phoenix:20200130T213000
DTSTAMP:20260421T113839
CREATED:20190503T143530Z
LAST-MODIFIED:20190503T143530Z
UID:1933-1580412600-1580419800@jerisager.com
SUMMARY:Jeri Sager in THIS BROAD'sWAY
DESCRIPTION:My 2 ACT One Woman Show\, in Oklahoma.
URL:https://jerisager.com/event/jeri-sager-in-this-broadsway/
LOCATION:Northeastern State University Center for the Performing Arts\, Tahlequah\, Oklahoma
CATEGORIES:Jeri Sager in Concert
END:VEVENT
END:VCALENDAR